BEGIN:VCALENDAR
VERSION:2.0
PRODID:-// - ECPv6.14.2//NONSGML v1.0//EN
CALSCALE:GREGORIAN
METHOD:PUBLISH
X-ORIGINAL-URL:https://teatrodelasaguas.com
X-WR-CALDESC:Eventos para 
REFRESH-INTERVAL;VALUE=DURATION:PT1H
X-Robots-Tag:noindex
X-PUBLISHED-TTL:PT1H
BEGIN:VTIMEZONE
TZID:Europe/Helsinki
BEGIN:DAYLIGHT
TZOFFSETFROM:+0200
TZOFFSETTO:+0300
TZNAME:EEST
DTSTART:20260329T010000
END:DAYLIGHT
BEGIN:STANDARD
TZOFFSETFROM:+0300
TZOFFSETTO:+0200
TZNAME:EET
DTSTART:20261025T010000
END:STANDARD
END:VTIMEZONE
BEGIN:VEVENT
DTSTART;TZID=Europe/Helsinki:20260305T210000
DTEND;TZID=Europe/Helsinki:20260531T233000
DTSTAMP:20260421T180533
CREATED:20250223T120249Z
LAST-MODIFIED:20260408T082239Z
UID:10003829-1772744400-1780270200@teatrodelasaguas.com
SUMMARY:MI NOCHE CON NACHO
DESCRIPTION:SINOPSIS: \nNacho fue asesinado en Chueca al grito de “maricón”. Ahora\, varias personas que mantuvieron relaciones íntimas con él se reúnen para reconstruir quién era realmente. Lo que empieza como una búsqueda de respuestas pronto se convierte en una disputa por definir su identidad\, su deseo y el significado de lo que cada uno vivió con él. \nA través de recuerdos contradictorios\, humor y revelaciones\, la figura de Nacho se fragmenta. El sexo\, la identidad y la necesidad de etiquetar se entrelazan en discusiones que oscilan entre la ironía y la herida abierta. \n 
URL:https://teatrodelasaguas.com/evento/mi-noche-con-nacho/
LOCATION:Teatro de las Aguas\, Calle Aguas 8\, Madrid\, Madrid\, 28005\, España
CATEGORIES:Teatro
ATTACH;FMTTYPE=image/png:https://teatrodelasaguas.com/wp-content/uploads/2026/02/Cartel-1000x15000-1.png
ORGANIZER;CN="TEATRO DE LAS AGUAS DE MADRID":MAILTO:info@teatrodelasaguas.com
END:VEVENT
BEGIN:VEVENT
DTSTART;TZID=Europe/Helsinki:20260409T180000
DTEND;TZID=Europe/Helsinki:20260630T190000
DTSTAMP:20260421T180533
CREATED:20260318T100522Z
LAST-MODIFIED:20260416T003502Z
UID:10003831-1775757600-1782846000@teatrodelasaguas.com
SUMMARY:STRIP POKER
DESCRIPTION:SINOPSIS: \nMaría y Pedro viven atrapados en un mundo de normas\, corrección y apariencias. Su vida transcurre entre la cortesía obligatoria\, la educación forzada y un orden social tan pulcro como asfixiante. Para romper la monotonía\, deciden organizar una elegante velada con los nuevos vecinos\, Ignacio y Rosa. Una cena aparentemente inofensiva\, donde nadie dice la verdad y todos fingen tener el control.\nPero la noche se desliza rápidamente hacia lo incómodo. Una llamada equivocada\, sospechas absurdas y celos sin fundamento hacen que las sonrisas se agrieten y las máscaras comiencen a caer. Entre equívocos\,  confesiones mal calculadas y risas demasiado nerviosas\, la velada se convierte en un descenso tan cómico como cruel hacia el caos.\nStrip Poker revela cómo las apariencias\, cuando se sostienen demasiado e tiempo\, siempre pasan factura. \n 
URL:https://teatrodelasaguas.com/evento/strip-poker/
LOCATION:Teatro de las Aguas\, Calle Aguas 8\, Madrid\, Madrid\, 28005\, España
CATEGORIES:Teatro
ATTACH;FMTTYPE=image/png:https://teatrodelasaguas.com/wp-content/uploads/2026/03/Cartel-persiana-1000-x-1500-px-2.png
ORGANIZER;CN="TEATRO DE LAS AGUAS DE MADRID":MAILTO:info@teatrodelasaguas.com
END:VEVENT
BEGIN:VEVENT
DTSTART;TZID=Europe/Helsinki:20260423T210000
DTEND;TZID=Europe/Helsinki:20260530T220000
DTSTAMP:20260421T180533
CREATED:20260408T095152Z
LAST-MODIFIED:20260408T095152Z
UID:10003833-1776978000-1780178400@teatrodelasaguas.com
SUMMARY:LAS TRES SILLAS
DESCRIPTION:SINOPSIS: \nVerano en un pueblo español. \nTres sillas en la puerta de una casa. Noche. \nTres generaciones reflejadas en tres mujeres. \nAbuela\, hija y nieta\, mantienen una conversación\, cada una desde el punto de vista de su generación\, sobre el papel desempeñado por la mujer a lo largo de los años en relación con la figura masculina de sus parejas. \n¿Han cambiado los roles? \n¿Es necesaria la lucha por la igualdad? \n 
URL:https://teatrodelasaguas.com/evento/las-tres-sillas/
LOCATION:Teatro de las Aguas\, Calle Aguas 8\, Madrid\, Madrid\, 28005\, España
CATEGORIES:Teatro
ATTACH;FMTTYPE=image/png:https://teatrodelasaguas.com/wp-content/uploads/2026/04/1000085535.png
ORGANIZER;CN="TEATRO DE LAS AGUAS DE MADRID":MAILTO:info@teatrodelasaguas.com
END:VEVENT
BEGIN:VEVENT
DTSTART;TZID=Europe/Helsinki:20260516T200000
DTEND;TZID=Europe/Helsinki:20260530T210000
DTSTAMP:20260421T180533
CREATED:20260419T143042Z
LAST-MODIFIED:20260419T143042Z
UID:10003834-1778961600-1780174800@teatrodelasaguas.com
SUMMARY:TDHA AL CUADRADO
DESCRIPTION:SINOPSIS: \nTDHA al cuadrado es un show de comedia protagonizado por Alber Vil e Ismael Galletero\, dos cómicos con TDHA que convierten su propio caos mental en el motor del espectáculo. \nA través de situaciones cotidianas\, pensamientos que se cruzan sin filtro y una cabeza que no para nunca\, ambos construyen un show ágil\, imprevisible y muy reconocible\, donde el despiste\, la impulsividad y el hiperfoco se transforman en risas constantes. \nUna comedia cercana\, directa y muy viva\, en la que el público no solo se ríe… también se ve reflejado. Porque aquí el desorden no se corrige: se celebra. \n  \nFECHAS: domingos 16 y 30 a las 20:00h \nCATEGORIA: Cartelera de monólogos \nDuración: 60 min
URL:https://teatrodelasaguas.com/evento/tdha-al-cuadrado/
LOCATION:Teatro de las Aguas\, Calle Aguas 8\, Madrid\, Madrid\, 28005\, España
CATEGORIES:Monólogos
ATTACH;FMTTYPE=image/jpeg:https://teatrodelasaguas.com/wp-content/uploads/2026/04/TDHA-CARTEL-WEB.jpg
ORGANIZER;CN="TEATRO DE LAS AGUAS DE MADRID":MAILTO:info@teatrodelasaguas.com
END:VEVENT
END:VCALENDAR